BEGIN:VCALENDAR
VERSION:2.0
PRODID:-//Atis Conseil et Formation - ECPv6.15.20//NONSGML v1.0//EN
CALSCALE:GREGORIAN
METHOD:PUBLISH
X-ORIGINAL-URL:https://www.atis-conseils.fr
X-WR-CALDESC:Évènements pour Atis Conseil et Formation
REFRESH-INTERVAL;VALUE=DURATION:PT1H
X-Robots-Tag:noindex
X-PUBLISHED-TTL:PT1H
BEGIN:VTIMEZONE
TZID:Europe/Paris
BEGIN:DAYLIGHT
TZOFFSETFROM:+0100
TZOFFSETTO:+0200
TZNAME:CEST
DTSTART:20230326T010000
END:DAYLIGHT
BEGIN:STANDARD
TZOFFSETFROM:+0200
TZOFFSETTO:+0100
TZNAME:CET
DTSTART:20231029T010000
END:STANDARD
BEGIN:DAYLIGHT
TZOFFSETFROM:+0100
TZOFFSETTO:+0200
TZNAME:CEST
DTSTART:20240331T010000
END:DAYLIGHT
BEGIN:STANDARD
TZOFFSETFROM:+0200
TZOFFSETTO:+0100
TZNAME:CET
DTSTART:20241027T010000
END:STANDARD
BEGIN:DAYLIGHT
TZOFFSETFROM:+0100
TZOFFSETTO:+0200
TZNAME:CEST
DTSTART:20250330T010000
END:DAYLIGHT
BEGIN:STANDARD
TZOFFSETFROM:+0200
TZOFFSETTO:+0100
TZNAME:CET
DTSTART:20251026T010000
END:STANDARD
END:VTIMEZONE
BEGIN:VEVENT
DTSTART;TZID=Europe/Paris:20240905T183000
DTEND;TZID=Europe/Paris:20240905T203000
DTSTAMP:20260421T025252
CREATED:20240625T084038Z
LAST-MODIFIED:20260122T102616Z
UID:769-1725561000-1725568200@www.atis-conseils.fr
SUMMARY:Conférence et table ronde
DESCRIPTION:« Diriger une PME\, est-ce bon pour la santé ? » \nLa conférence sera animé par Olivier Torrès\, Enseignant-chercheur de renom. Il est un acteur essentiel du secteur de la recherche au sujet des PME et de l’entrepreneuriat. Il a fondé en 2009 l’Observatoire AMAROK qui fédère une quinzaine de chercheurs qui étudient les liens entre la santé de l’entreprise et celle de son dirigeant. \nLa table ronde permettra à plusieurs dirigeants de témoigner de leurs expériences sur cette thématique. \nPROGRAMME :\n18h00 : Bienvenue\n18h30 : Conférence animée par Olivier Torrès\n19h30 : Table ronde et questions de l’auditoire\n20h30 : Verre de clôture et temps réseautage \n-> Inscrivez-vous dès aujourdhui ! \n-> En savoir plus sur le conférencier et les témoins de la table ronde.
URL:https://www.atis-conseils.fr/event/table-ronde-lequilibre-et-de-la-sante-du-dirigeant-dentreprise-tpe-pme/
LOCATION:Chateau de Sans Souci\, 260 Allée des Cyprès\, Lyon\, 69760\, France
CATEGORIES:Rencontre CPA
END:VEVENT
END:VCALENDAR