BEGIN:VCALENDAR
VERSION:2.0
PRODID:-//Atis Conseil et Formation - ECPv6.15.20//NONSGML v1.0//EN
CALSCALE:GREGORIAN
METHOD:PUBLISH
X-ORIGINAL-URL:https://www.atis-conseils.fr
X-WR-CALDESC:Évènements pour Atis Conseil et Formation
REFRESH-INTERVAL;VALUE=DURATION:PT1H
X-Robots-Tag:noindex
X-PUBLISHED-TTL:PT1H
BEGIN:VTIMEZONE
TZID:Europe/Paris
BEGIN:DAYLIGHT
TZOFFSETFROM:+0100
TZOFFSETTO:+0200
TZNAME:CEST
DTSTART:20240331T010000
END:DAYLIGHT
BEGIN:STANDARD
TZOFFSETFROM:+0200
TZOFFSETTO:+0100
TZNAME:CET
DTSTART:20241027T010000
END:STANDARD
BEGIN:DAYLIGHT
TZOFFSETFROM:+0100
TZOFFSETTO:+0200
TZNAME:CEST
DTSTART:20250330T010000
END:DAYLIGHT
BEGIN:STANDARD
TZOFFSETFROM:+0200
TZOFFSETTO:+0100
TZNAME:CET
DTSTART:20251026T010000
END:STANDARD
BEGIN:DAYLIGHT
TZOFFSETFROM:+0100
TZOFFSETTO:+0200
TZNAME:CEST
DTSTART:20260329T010000
END:DAYLIGHT
BEGIN:STANDARD
TZOFFSETFROM:+0200
TZOFFSETTO:+0100
TZNAME:CET
DTSTART:20261025T010000
END:STANDARD
END:VTIMEZONE
BEGIN:VEVENT
DTSTART;TZID=Europe/Paris:20250404T180000
DTEND;TZID=Europe/Paris:20250404T200000
DTSTAMP:20260421T070406
CREATED:20250313T094858Z
LAST-MODIFIED:20260122T102508Z
UID:1250-1743789600-1743796800@www.atis-conseils.fr
SUMMARY:TABLE RONDE - Comment nos entreprises peuvent relever le défi de la révolution IA ?
DESCRIPTION:[ A NE PAS MANQUER ] \nComment nos entreprises peuvent relever le défi\nde la révolution IA ?\n\n  \nLe prochain évènement incontournable du CPA Lyon – Grenoble aura lieu le vendredi 4 avril 2025. \n  \n✅ Quels sont les leviers et les freins au déploiement de l’IA dans les industries ? \n✅ Quel impact l’IA aura-t-elle sur les modes de décision et le rôle des dirigeants ? \n✅ Comment anticiper et gérer la transformation culturelle et sociale liée à l’IA ? \n✅ L’IA est-elle un accélérateur de souveraineté ou une dépendance accrue aux GAFAM ? \n  \n  \n​📅​​  4 avril 2025 \n​🕕  18h00 – 20h00 \n📍​ Château de Sans Souci\, Limonest \n👉 Sur inscription par ici \n✔️ GRATUIT \n  \n➡ Abonnez-vous à la page LinkedIn du CPA Lyon – Grenoble pour recevoir toutes les informations au sujet de cette prochaine rencontre CPA ! \n  \n#dirigeant #tableronde #intelligenceartificielle #défiavenir
URL:https://www.atis-conseils.fr/event/table-ronde-comment-nos-entreprises-peuvent-relever-le-defi-de-la-revolution-ia/
LOCATION:Chateau de Sans Souci\, 260 Allée des Cyprès\, Lyon\, 69760\, France
CATEGORIES:Rencontre CPA
END:VEVENT
END:VCALENDAR